BEGIN:VCALENDAR
VERSION:2.0
PRODID:-//The Arc of Western Wayne County - ECPv6.15.20//NONSGML v1.0//EN
CALSCALE:GREGORIAN
METHOD:PUBLISH
X-ORIGINAL-URL:https://thearcww.org
X-WR-CALDESC:Events for The Arc of Western Wayne County
REFRESH-INTERVAL;VALUE=DURATION:PT1H
X-Robots-Tag:noindex
X-PUBLISHED-TTL:PT1H
BEGIN:VTIMEZONE
TZID:America/Detroit
BEGIN:DAYLIGHT
TZOFFSETFROM:-0500
TZOFFSETTO:-0400
TZNAME:EDT
DTSTART:20210314T070000
END:DAYLIGHT
BEGIN:STANDARD
TZOFFSETFROM:-0400
TZOFFSETTO:-0500
TZNAME:EST
DTSTART:20211107T060000
END:STANDARD
BEGIN:DAYLIGHT
TZOFFSETFROM:-0500
TZOFFSETTO:-0400
TZNAME:EDT
DTSTART:20220313T070000
END:DAYLIGHT
BEGIN:STANDARD
TZOFFSETFROM:-0400
TZOFFSETTO:-0500
TZNAME:EST
DTSTART:20221106T060000
END:STANDARD
BEGIN:DAYLIGHT
TZOFFSETFROM:-0500
TZOFFSETTO:-0400
TZNAME:EDT
DTSTART:20230312T070000
END:DAYLIGHT
BEGIN:STANDARD
TZOFFSETFROM:-0400
TZOFFSETTO:-0500
TZNAME:EST
DTSTART:20231105T060000
END:STANDARD
END:VTIMEZONE
BEGIN:VEVENT
DTSTART;TZID=America/Detroit:20221103T180000
DTEND;TZID=America/Detroit:20221103T200000
DTSTAMP:20260423T124028
CREATED:20221005T132734Z
LAST-MODIFIED:20221005T132734Z
UID:6313-1667498400-1667505600@thearcww.org
SUMMARY:DHHS Programs
DESCRIPTION:Speaker will discuss the program and services available to your family member with a disability\, including Medicaid\, DAC\, Food Assistance\, and Adult Home Help. \nAfter you RSVP for this event you will receive a Microsoft Teams Link to the event.
URL:https://thearcww.org/event/dhhs-programs/
LOCATION:TEAMS
CATEGORIES:AIG,events
ORGANIZER;CN="Tequila Smith":MAILTO:tequila@thearcww.org
END:VEVENT
END:VCALENDAR