BEGIN:VCALENDAR
VERSION:2.0
PRODID:-//The Arc of Western Wayne County - ECPv6.15.20//NONSGML v1.0//EN
CALSCALE:GREGORIAN
METHOD:PUBLISH
X-ORIGINAL-URL:https://thearcww.org
X-WR-CALDESC:Events for The Arc of Western Wayne County
REFRESH-INTERVAL;VALUE=DURATION:PT1H
X-Robots-Tag:noindex
X-PUBLISHED-TTL:PT1H
BEGIN:VTIMEZONE
TZID:America/Detroit
BEGIN:DAYLIGHT
TZOFFSETFROM:-0500
TZOFFSETTO:-0400
TZNAME:EDT
DTSTART:20230312T070000
END:DAYLIGHT
BEGIN:STANDARD
TZOFFSETFROM:-0400
TZOFFSETTO:-0500
TZNAME:EST
DTSTART:20231105T060000
END:STANDARD
BEGIN:DAYLIGHT
TZOFFSETFROM:-0500
TZOFFSETTO:-0400
TZNAME:EDT
DTSTART:20240310T070000
END:DAYLIGHT
BEGIN:STANDARD
TZOFFSETFROM:-0400
TZOFFSETTO:-0500
TZNAME:EST
DTSTART:20241103T060000
END:STANDARD
BEGIN:DAYLIGHT
TZOFFSETFROM:-0500
TZOFFSETTO:-0400
TZNAME:EDT
DTSTART:20250309T070000
END:DAYLIGHT
BEGIN:STANDARD
TZOFFSETFROM:-0400
TZOFFSETTO:-0500
TZNAME:EST
DTSTART:20251102T060000
END:STANDARD
END:VTIMEZONE
BEGIN:VEVENT
DTSTART;TZID=America/Detroit:20241107T180000
DTEND;TZID=America/Detroit:20241107T200000
DTSTAMP:20260421T062120
CREATED:20240904T165115Z
LAST-MODIFIED:20240912T163857Z
UID:7106-1731002400-1731009600@thearcww.org
SUMMARY:Social Security Programs
DESCRIPTION:Speaker will discuss the Social Security programs available to your family member with a disability including SSI\, SSDI\, and DAC\, the application process\, and what to do if denied.
URL:https://thearcww.org/event/social-security-programs-6/
LOCATION:TEAMS
CATEGORIES:AIG
ORGANIZER;CN="Tequila Smith":MAILTO:tequila@thearcww.org
END:VEVENT
BEGIN:VEVENT
DTSTART;TZID=America/Detroit:20241121T180000
DTEND;TZID=America/Detroit:20241121T200000
DTSTAMP:20260421T062120
CREATED:20240904T165443Z
LAST-MODIFIED:20240912T164236Z
UID:7109-1732212000-1732219200@thearcww.org
SUMMARY:Person Centered Planning and Self-Determination
DESCRIPTION:Speaker will discuss how to use Person Centered Planning and Self-Determination to support your family member with a disability to live the life they want in their community.
URL:https://thearcww.org/event/person-centered-planning-and-self-determination-5/
LOCATION:TEAMS
CATEGORIES:AIG
ORGANIZER;CN="Tequila Smith":MAILTO:tequila@thearcww.org
END:VEVENT
BEGIN:VEVENT
DTSTART;TZID=America/Detroit:20241122T173000
DTEND;TZID=America/Detroit:20241122T193000
DTSTAMP:20260421T062120
CREATED:20241104T162542Z
LAST-MODIFIED:20241104T162542Z
UID:7361-1732296600-1732303800@thearcww.org
SUMMARY:Sneaker Ball
DESCRIPTION:Join us for an evening of Dancing\, Music\, Food and Fun at the Hype Recreation Center in Wayne. \nWear your Sunday best and sneakers to our dance party.  Heavy Hors d’Oeuvres\, Dessert and Beverages will be served. \nTickets are $15 each.  RSVP to aishah@thearcww.org or (734) 729-9100.  Paid registration is due to The Arc office by Friday\, November 15\, 2024.
URL:https://thearcww.org/event/sneaker-ball/
END:VEVENT
END:VCALENDAR